Felt | Verdi |
AlreadyApplied | True |
Aperture | 4.0 |
ApertureValue | 4.0 |
ApproximateFNumber | 4.0 |
BaseISO | 160 |
BitsPerSample | 8 |
BlueBalance | 0.858655 |
BlueHue | 0 |
BlueSaturation | 0 |
Brightness | +53 |
By-line | Alf M. Sollund |
CameraProfile | Adobe Standard |
CameraTemperature | 12 C |
CaptionWriter | Alf M. Sollund |
ChromaticAberrationB | 0 |
ChromaticAberrationR | 0 |
CircleOfConfusion | 0.030 mm |
Clarity | +26 |
ColorComponents | 3 |
ColorNoiseReduction | 10 |
ColorSpace | Uncalibrated |
ColorTemperature | 5500 |
Contrast (1) | High |
Contrast | Normal |
ConvertToGrayscale | False |
Copyright | Alf M. Sollund |
CopyrightFlag | True |
CopyrightNotice | Alf M. Sollund |
CreateDate (1) | 2010:05:16 23:16:03+02:00 |
CreateDate | 2010:05:16 23:16:03 |
Creator | Alf M. Sollund |
CreatorAddress | Amtmanns gt. 15 |
CreatorCity | Tromsø |
CreatorCountry | Norway |
CreatorPostalCode | 9008 |
CreatorTool | Adobe Photoshop Lightroom |
CreatorWorkEmail | alf-martin.sollund@telenor.com |
CreatorWorkTelephone | +4791889676 |
CreatorWorkURL | http://flyalf.com |
DateTimeDigitized | 2010:05:16 23:16:03+02:00 |
DateTimeOriginal (1) | 2010:05:16 23:16:03+02:00 |
DateTimeOriginal | 2010:05:16 23:16:03 |
Defringe | 0 |
DigitalZoomRatio | 0 |
ExifImageHeight | 681 |
ExifImageWidth | 1024 |
Exposure | +0.76 |
ExposureCompensation | -1 |
ExposureMode | Manual |
ExposureProgram | Aperture-priority AE |
ExposureTime | 4 |
ExternalSensorBrightnessValue | 1.39 |
FillLight | 0 |
FirmwareVersion | 1.116 |
Flash | No Flash |
FlashFired | False |
FlashFunction | False |
FlashMode | Unknown |
FlashRedEyeMode | False |
FlashReturn | No return detection |
FNumber | 4.0 |
FocalLength | 50.0 mm |
FocalLength35efl | 50.0 mm (35 mm equivalent: 50.0 mm) |
FocalLengthIn35mmFormat | 50 mm |
FOV | 39.6 deg |
GreenHue | 0 |
GreenSaturation | 0 |
HasCrop | False |
HasSettings | True |
HierarchicalSubject | Lavangsdalen, Troms, riwer, spring |
HighlightRecovery | 60 |
HueAdjustmentAqua | 0 |
HueAdjustmentBlue | 0 |
HueAdjustmentGreen | 0 |
HueAdjustmentMagenta | 0 |
HueAdjustmentOrange | 0 |
HueAdjustmentPurple | 0 |
HueAdjustmentRed | 0 |
HueAdjustmentYellow | 0 |
HyperfocalDistance | 20.80 m |
ImageHeight | 681 |
ImageSize | 1024x681 |
ImageWidth | 1024 |
ISO | 160 |
JPEGQuality | Basic |
JPEGSize | 5216x3472 |
Keywords | Lavangsdalen, Troms, riwer, spring |
Lens | Leica Summicron-M 50mm f/2 (IV, V) |
LensID (1) | 33 |
LensID | Summicron-M 50mm f/2 (IV, V) |
LensType | Summicron-M 50mm f/2 (IV, V) |
LightSource | Unknown |
LightValue | 1.3 |
LuminanceAdjustmentAqua | 0 |
LuminanceAdjustmentBlue | 0 |
LuminanceAdjustmentGreen | 0 |
LuminanceAdjustmentMagenta | 0 |
LuminanceAdjustmentOrange | 0 |
LuminanceAdjustmentPurple | 0 |
LuminanceAdjustmentRed | 0 |
LuminanceAdjustmentYellow | 0 |
LuminanceSmoothing | 0 |
Make | Leica Camera AG |
MakerNoteSafety | Safe |
Marked | True |
MaxApertureValue | 2.0 |
MeasuredLV | -2.29 |
Megapixels | 0.697 |
MeteringMode | Center-weighted average |
Model | M9 Digital Camera |
ModifyDate (1) | 2010:05:17 02:26:08+02:00 |
ModifyDate | 2010:05:17 02:26:08 |
ParametricDarks | -7 |
ParametricHighlights | +15 |
ParametricHighlightSplit | 75 |
ParametricLights | +7 |
ParametricMidtoneSplit | 50 |
ParametricShadows | -15 |
ParametricShadowSplit | 25 |
PostCropVignetteAmount | -9 |
PostCropVignetteFeather | 50 |
PostCropVignetteMidpoint | 50 |
PostCropVignetteRoundness | 0 |
ProfileDescription | sRGB IEC61966-2.1 |
Rating | 4 |
RedBalance | 0.450444 |
RedHue | 0 |
RedSaturation | 0 |
Rights | Alf M. Sollund |
Saturation (1) | High |
Saturation | Normal |
SaturationAdjustmentAqua | 0 |
SaturationAdjustmentBlue | 0 |
SaturationAdjustmentGreen | 0 |
SaturationAdjustmentMagenta | 0 |
SaturationAdjustmentOrange | 0 |
SaturationAdjustmentPurple | 0 |
SaturationAdjustmentRed | 0 |
SaturationAdjustmentYellow | 0 |
ScaleFactor35efl | 1.0 |
SceneCaptureType | Standard |
SceneType | Directly photographed |
SensorBitDepth | 14 |
SensorHeight | 3516 |
SensorWidth | 5270 |
SerialNumber | 3834853 |
Shadows | 9 |
ShadowTint | 0 |
SharpenDetail | 10 |
SharpenEdgeMasking | 0 |
Sharpening | Off |
SharpenRadius | +2.2 |
Sharpness | Hard |
ShutterSpeed | 4 |
ShutterSpeedValue | 4 |
Software | 1.116 |
SplitToningBalance | 0 |
SplitToningHighlightHue | 0 |
SplitToningHighlightSaturation | 0 |
SplitToningShadowHue | 0 |
SplitToningShadowSaturation | 0 |
Subject | Lavangsdalen, Troms, riwer, spring |
Tint | -13 |
ToneCurve | 0, 0, 32, 22, 64, 56, 128, 128, 192, 196, 255, 255 |
ToneCurveName | Medium Contrast |
URL | http://flyalf.com |
UserProfile | Profile 1 |
Version | 5.6.1 |
Vibrance | +22 |
VignetteAmount | 0 |
WB_RGBLevels | 0.4504440107 1 0.8586552068 |
WebStatement | http://flyalf.com |
WhiteBalance | Auto |
Writer-Editor | Alf M. Sollund |